BEGIN:VCALENDAR
VERSION:2.0
PRODID:-//ChamberMaster//Event Calendar 2.0//EN
METHOD:PUBLISH
X-PUBLISHED-TTL:P3D
REFRESH-INTERVAL:P3D
CALSCALE:GREGORIAN
BEGIN:VEVENT
DTSTART:20151115T000000Z
DTEND:20151115T040000Z
X-MICROSOFT-CDO-ALLDAYEVENT:FALSE
SUMMARY:6th Annual Brew & Wine Fest
DESCRIPTION:It's time to get your tickets for the 6th Annual Brew & Wine Fest!  The night will feature musical entertainment by Timothy Paul and Sticks and Stones.  You will enjoy free appetizers\, beer and wine samples from Buckeye Lake Brewery\, Homestead Beer Company\, Buckeye Lake Winery\, Raven's Glenn Winery\, Roots & Shoots Wine Shop\, Palumbo's Italian Market\, Buckeye Winery\, Market Basket\, New Belgium Brewing and more!  You WILL NOT want to miss out - be sure to get tickets for your friends and co-workers. Advance tickets available at The Beverage Source\, Buckeye Lake Brewery\, Palumbo's Italian Market\, Buckeye Winery\, Roots & Shoots Wine Shop and the Chamber office.  This annual event will be held at the John Gilbert Reese Center on the campus of The Ohio State University at Newark and Central Ohio Technical College.\n\n\n\nMembers may choose to click here to register on-line and have tickets mailed to them with an invoice.
X-ALT-DESC;FMTTYPE=text/html:<span style="font-size:12px\;"><span style="font-family:arial\;">It&rsquo\;s time to get your tickets for the </span></span><strong style="font-family: arial\; font-size: 12px\; line-height: 19.2000007629395px\;">6</strong><span style="font-size:12px\;"><span style="font-family:arial\;"><strong><sup>th</sup>&nbsp\;Annual Brew &amp\; Wine Fest!</strong>&nbsp\; The night will feature musical entertainment by Timothy Paul and Sticks and Stones. &nbsp\;You will enjoy free appetizers\, beer and wine samples from Buckeye Lake Brewery\, Homestead Beer Company\, Buckeye Lake Winery\, Raven&#39\;s Glenn Winery\, Roots &amp\; Shoots Wine Shop\, Palumbo&#39\;s Italian Market\, Buckeye Winery\, Market Basket\, New Belgium Brewing and more!&nbsp\; You WILL NOT want to miss out - be sure to get tickets for your friends and co-workers. Advance tickets available at The Beverage Source\, Buckeye Lake Brewery\, Palumbo&#39\;s Italian Market\, Buckeye Winery\, Roots &amp\; Shoots Wine Shop and the Chamber office. &nbsp\;This annual event will be held at the John Gilbert Reese Center on the campus of The Ohio State University at Newark and Central Ohio Technical College.<br />\n<br />\nMembers may choose to <u><a href="https://lickingcountychamber.chambermaster.com/eventregistration/register/503">click here</a></u> to register on-line and have tickets mailed to them with an invoice.</span></span>
LOCATION:The Reese Center on the campus of COTC and Ohio State Newark 1209 University Drive Newark\, Ohio
UID:e.1738.503
SEQUENCE:3
DTSTAMP:20260420T171956Z
URL:http://members.lickingcountychamber.com/events/details/6th-annual-brew-wine-fest-11-14-2015-503
END:VEVENT

END:VCALENDAR
