BEGIN:VCALENDAR
VERSION:2.0
PRODID:-//ChamberMaster//Event Calendar 2.0//EN
METHOD:PUBLISH
X-PUBLISHED-TTL:P3D
REFRESH-INTERVAL:P3D
CALSCALE:GREGORIAN
BEGIN:VEVENT
DTSTART:20151203T220000Z
DTEND:20151204T000000Z
X-MICROSOFT-CDO-ALLDAYEVENT:FALSE
SUMMARY:Holiday After Hours at The Granville Inn
DESCRIPTION:All decked out for the holidays\, the staff at The Granville Inn welcomes you to this after hours event.  You will be able to tour the newly renovated Inn as well as enjoy an array of appetizers and drinks.  There may even be some fun reindeer games - so don't miss this one!
X-ALT-DESC;FMTTYPE=text/html:All decked out for the holidays\, the staff at The Granville Inn welcomes you to this after hours event. &nbsp\;You will be able to tour the newly renovated Inn as well as enjoy an array of appetizers and drinks. &nbsp\;There may even be some fun reindeer games - so don&#39\;t miss this one!
LOCATION:The Granville Inn 314 E. Broadway Granville\, OH
UID:e.1738.506
SEQUENCE:3
DTSTAMP:20260420T141623Z
URL:http://members.lickingcountychamber.com/events/details/holiday-after-hours-at-the-granville-inn-12-03-2015-506
END:VEVENT

END:VCALENDAR
