BEGIN:VCALENDAR
VERSION:2.0
PRODID:-//ChamberMaster//Event Calendar 2.0//EN
METHOD:PUBLISH
X-PUBLISHED-TTL:P3D
REFRESH-INTERVAL:P3D
CALSCALE:GREGORIAN
BEGIN:VEVENT
DTSTART:20151119T123000Z
DTEND:20151119T140000Z
X-MICROSOFT-CDO-ALLDAYEVENT:FALSE
SUMMARY:Labor Law Briefing
DESCRIPTION:This timely Labor Law Briefing will provide you with essential information pertaining to looming regulatory threats to businesses\, and equip attendees with tools to be effective advocates for common sense approaches to these matters. This briefing will be led by Sean Redmond\, Senior Director of Policy and Strategic Outreach for the U.S. Chamber's Workforce Freedom Initiative\, and will provide a legislative and regulatory briefing on HR issues.  Redmond will highlight labor and employment regulations\, legislation\, and issues impacting the workplace today\, with a focus on the anti-employer agenda being pushed by the National Labor Relations Board. Attendees will have the opportunity to engage Mr. Redmond in discussions about the actions you may take to prepare your organization for these significant changes in labor law.
X-ALT-DESC;FMTTYPE=text/html:<p><span style="font-size:14px\;"><span style="font-family:arial\,sans-serif\;">This timely Labor Law Briefing will provide you with essential information pertaining to looming regulatory threats to businesses\, and equip attendees with tools to be effective advocates for common sense approaches to these matters. This briefing will be led by Sean Redmond\, Senior Director of Policy and Strategic Outreach for the U.S. Chamber&#39\;s Workforce Freedom Initiative\, and will provide a legislative and regulatory briefing on HR issues. &nbsp\;Redmond will highlight labor and employment regulations\, legislation\, and issues impacting the workplace today\, with a focus on the anti-employer agenda being pushed by the National Labor Relations Board. Attendees will have the opportunity to engage Mr. Redmond in discussions about the actions you may take to prepare your organization for these significant changes in labor law.</span></span></p>\n
LOCATION:Moundbuilders Country Club 125 N. 33rd Street Newark\, Ohio
UID:e.1738.509
SEQUENCE:3
DTSTAMP:20260420T171317Z
URL:http://members.lickingcountychamber.com/events/details/labor-law-briefing-11-19-2015-509
END:VEVENT

END:VCALENDAR
