BEGIN:VCALENDAR
VERSION:2.0
PRODID:-//ChamberMaster//Event Calendar 2.0//EN
METHOD:PUBLISH
X-PUBLISHED-TTL:P3D
REFRESH-INTERVAL:P3D
CALSCALE:GREGORIAN
BEGIN:VEVENT
DTSTART:20151209T123000Z
DTEND:20151209T140000Z
X-MICROSOFT-CDO-ALLDAYEVENT:FALSE
SUMMARY:Local Leaders Breakfast
DESCRIPTION:Join us for an extremely informative event featuring Ed Bohren\, Executive Director of the Licking County Family YMCA.  You will hear about the new programs and additions that have been recently implemented under Mr. Bohren's direction.  This will be an opportunity for other non-profits and business owners alike to learn from the successes of the YMCA.\n\n\n\nRegistration begins at 7:15\, breakfast at 7:30\, program at 8:00 a.m.
X-ALT-DESC;FMTTYPE=text/html:Join us for an extremely informative event featuring Ed Bohren\, Executive Director of the Licking County Family YMCA.&nbsp\; You will hear about the new programs and additions that have been recently implemented under Mr. Bohren&#39\;s direction. &nbsp\;This will be an opportunity for other non-profits and business owners alike to learn from the successes of the YMCA.<br />\n<br />\nRegistration begins at 7:15\, breakfast at 7:30\, program at 8:00 a.m.
LOCATION:The Granville Inn 314 E. Broadway Street Granville\, Ohio
UID:e.1738.510
SEQUENCE:3
DTSTAMP:20260420T141506Z
URL:http://members.lickingcountychamber.com/events/details/local-leaders-breakfast-12-09-2015-510
END:VEVENT

END:VCALENDAR
