BEGIN:VCALENDAR
VERSION:2.0
PRODID:-//ChamberMaster//Event Calendar 2.0//EN
METHOD:PUBLISH
X-PUBLISHED-TTL:P3D
REFRESH-INTERVAL:P3D
CALSCALE:GREGORIAN
BEGIN:VEVENT
DTSTART:20220907T123000Z
DTEND:20220907T140000Z
X-MICROSOFT-CDO-ALLDAYEVENT:FALSE
SUMMARY:Tips to strengthen your online presence in 2022
DESCRIPTION:Please join us virtually for the Small Business Council quarterly program. \n\n\n\n"Tips to strengthen your online presence in 2022"\n\nIn this workshop you'll learn our top tips to strengthen your online presence\, including the importance of having your business show up in local search results and how you can leverage online reviews to attract more customers.  We'll also show you ways you can use different types of paid ad strategies to get in front of more of your targeted customers.  Lastly\, we'll touch on using social media to build your brand and create a more personalized experience for your followers.  You don't want to miss this!\n\nWhat You Will Learn :\n\n            How to get your business to show up higher in local search results\n\n            Leveraging online reviews to attract more customers\n\n            Successful paid advertising strategies to better target new customers\n\n            Successful social media tips to build your brand online
X-ALT-DESC;FMTTYPE=text/html:<font color="#222222" face="Arial\, Helvetica\, sans-serif" size="2">Please join us virtually for the Small Business Council quarterly program.&nbsp\;</font><br />\n<br />\n<strong><span style="font-family:arial\,sans-serif\;"><span style="font-size:12pt\;">&ldquo\;Tips to strengthen your online presence in 2022&rdquo\;</span></span></strong><br />\n<span style="font-family:arial\,sans-serif\;"><span style="font-size:12pt\;">In this workshop you&rsquo\;ll learn our top tips to strengthen your online presence\, including the importance of having your business show up in local search results and how you can leverage online reviews to attract more customers.&nbsp\; We&rsquo\;ll also show you ways you can use different types of paid ad strategies to get in front of more of your targeted customers.&nbsp\; Lastly\, we&rsquo\;ll touch on using social media to build your brand and create a more personalized experience for your followers.&nbsp\; You don&rsquo\;t want to miss this!</span></span><br />\n<strong><span style="font-family:arial\,sans-serif\;"><span style="font-size:12pt\;">What You Will Learn :</span></span></strong><br />\n<strong><span style="font-family:arial\,sans-serif\;"><span style="font-size:12pt\;">&bull\;&nbsp\;&nbsp\;&nbsp\;&nbsp\;&nbsp\;&nbsp\;&nbsp\;&nbsp\;&nbsp\;&nbsp\; How to get your business to show up higher in local search results</span></span></strong><br />\n<strong><span style="font-family:arial\,sans-serif\;"><span style="font-size:12pt\;">&bull\;&nbsp\;&nbsp\;&nbsp\;&nbsp\;&nbsp\;&nbsp\;&nbsp\;&nbsp\;&nbsp\;&nbsp\; Leveraging online reviews to attract more customers</span></span></strong><br />\n<strong><span style="font-family:arial\,sans-serif\;"><span style="font-size:12pt\;">&bull\;&nbsp\;&nbsp\;&nbsp\;&nbsp\;&nbsp\;&nbsp\;&nbsp\;&nbsp\;&nbsp\;&nbsp\; Successful paid advertising strategies to better target new customers</span></span></strong><br />\n<strong><span style="font-family:arial\,sans-serif\;"><span style="font-size:12pt\;">&bull\;&nbsp\;&nbsp\;&nbsp\;&nbsp\;&nbsp\;&nbsp\;&nbsp\;&nbsp\;&nbsp\;&nbsp\; Successful social media tips to build your brand online</span></span></strong>
LOCATION:VIRTUAL - login will be emailed to attendees 2 days in advance.
UID:e.1738.1880
SEQUENCE:3
DTSTAMP:20260423T230920Z
URL:http://members.lickingcountychamber.com/events/details/tips-to-strengthen-your-online-presence-in-2022-1880
END:VEVENT

END:VCALENDAR
