BEGIN:VCALENDAR
VERSION:2.0
PRODID:-//ChamberMaster//Event Calendar 2.0//EN
METHOD:PUBLISH
X-PUBLISHED-TTL:P3D
REFRESH-INTERVAL:P3D
CALSCALE:GREGORIAN
BEGIN:VEVENT
DTSTART:20160114T220000Z
DTEND:20160115T010000Z
X-MICROSOFT-CDO-ALLDAYEVENT:FALSE
SUMMARY:3rd Annual Rockin' Auction
DESCRIPTION:Last year's auction was a huge hit - join us this year for even more "rockin'" fun!!  This networking event that will feature local businesses and serves as a "thank you night" to all members! The Rockin' Auction will be an excellent opportunity for Chamber members to meet and bid on some exciting\, unique items and packages. The event is FREE to attend and will feature heavy hors d'oeuvres by Clay's Cafe and complimentary cocktails.  The greatest rock tunes will be played while you mingle with friends and look at all of the great auction items!\n\nSome of our unique auction items include: \n\n\n\n	Drink Local Convertible Tour of Local Wineries/Breweries\n	Weathervane Playhouse Season Pass & Dinner \n	Longaberger Golf Package\n	Party on the Patio at Elements Bistro\n	$1000 Advertising Schedule with WQIO Radio\n	Private Cocktail Party for 8 at "The Cabin"\n	Gas Grill and $100 certificate to Al's Meat Market\n	Chef's Table 5 Course Meal at Park Place Bistro\n	Palumbo's Italian Food & Wine Cooking Night\n	Keurig 2.0 with Carafe - Coffee\, Wine & Chocolate Package  \n	Homestead Beer Company Tour & Tasting\n	Custom Logo Mat\n	Hickory Household Membership at Dawes Arboretum\n	And so much more to come! \n\n\n\nThe event is free\, but we need your reservation. Call 740.345.9757 to RSVP. \n\nAlso\, we are looking for donations for our live auction packages. If you have gift packages\, gift certificates\, products or services\, that you would be willing to donate\, please let us know. Your company name will be announced and featured at this event\, in recognition of your donation.
X-ALT-DESC;FMTTYPE=text/html:<p align="LEFT" dir="LTR"><span style="color:#000033\;"><span style="font-size: 12px\;"><font face="Arial" style="font-family: Arial\;">Last year&#39\;s auction was a huge hit - join us this year for even more &quot\;rockin&#39\;&quot\;&nbsp\;fun!! &nbsp\;This&nbsp\;networking event that will feature local businesses and serves as a &quot\;thank you night&quot\; to all members! The Rockin&rsquo\; Auction will be an excellent opportunity for Chamber members to meet and bid on some exciting\, unique items and packages. The event is FREE to attend and will feature heavy hors d&rsquo\;oeuvres by Clay&#39\;s Cafe and complimentary cocktails. &nbsp\;The greatest rock tunes will be played while you mingle with friends and look at all of the great auction items!</font></span></span></p>\n\n<div _mce_style="font-family: Arial\, Helvetica\, sans-serif\; margin-left: 30px\;" style="color: rgb(0\, 0\, 0)\; font-size: medium\; line-height: normal\; font-family: Arial\, Helvetica\, sans-serif\; margin-left: 30px\;"><span style="color:#000033\;"><span style="font-size:12px\;"><span style="font-family:arial\;">Some of our unique auction items include:&nbsp\;</span></span></span></div>\n\n<div _mce_style="font-family: Arial\, Helvetica\, sans-serif\; margin-left: 30px\;" style="color: rgb(0\, 0\, 0)\; font-size: medium\; line-height: normal\; font-family: Arial\, Helvetica\, sans-serif\; margin-left: 30px\;">\n<ul>\n	<li><span style="color:#000033\;"><span style="font-size:12px\;"><span style="font-family:arial\;">Drink Local Convertible Tour of Local Wineries/Breweries</span></span></span></li>\n	<li><span style="color:#000033\;"><span style="font-size:12px\;"><span style="font-family:arial\;">Weathervane Playhouse Season Pass &amp\; Dinner&nbsp\;</span></span></span></li>\n	<li><span style="color:#000033\;"><span style="font-size:12px\;"><span style="font-family:arial\;">Longaberger Golf Package</span></span></span></li>\n	<li><span style="color:#000033\;"><span style="font-size:12px\;"><span style="font-family:arial\;">Party on the Patio at Elements Bistro</span></span></span></li>\n	<li><span style="color:#000033\;"><span style="font-size:12px\;"><span style="font-family:arial\;">$1000 Advertising Schedule with WQIO Radio</span></span></span></li>\n	<li><span style="color:#000033\;"><span style="font-size:12px\;"><span style="font-family:arial\;">Private Cocktail Party for 8 at &quot\;The Cabin&quot\;</span></span></span></li>\n	<li><span style="color:#000033\;"><span style="font-size:12px\;"><span style="font-family:arial\;">Gas Grill and $100 certificate to Al&#39\;s Meat Market</span></span></span></li>\n	<li><span style="color:#000033\;"><span style="font-size:12px\;"><span style="font-family:arial\;">Chef&#39\;s Table 5 Course Meal at Park Place Bistro</span></span></span></li>\n	<li><span style="color:#000033\;"><span style="font-size:12px\;"><span style="font-family:arial\;">Palumbo&#39\;s Italian Food &amp\; Wine Cooking Night</span></span></span></li>\n	<li><span style="color:#000033\;"><span style="font-size:12px\;"><span style="font-family:arial\;">Keurig 2.0 with Carafe - Coffee\, Wine &amp\; Chocolate Package &nbsp\;</span></span></span></li>\n	<li><span style="color:#000033\;"><span style="font-size:12px\;"><span style="font-family:arial\;">Homestead Beer Company Tour &amp\; Tasting</span></span></span></li>\n	<li><span style="color:#000033\;"><span style="font-size:12px\;"><span style="font-family:arial\;">Custom Logo Mat</span></span></span></li>\n	<li><span style="color:#000033\;"><span style="font-size:12px\;"><span style="font-family:arial\;">Hickory Household Membership at Dawes Arboretum</span></span></span></li>\n	<li><span style="color:#000033\;"><span style="font-size:12px\;"><span style="font-family:arial\;">And so much more to come!&nbsp\;</span></span></span></li>\n</ul>\n</div>\n\n<p align="LEFT" dir="LTR"><span style="color:#000033\;"><span style="font-size: 12px\;"><font face="Arial"><font face="Arial">The event is free\, but we need your reservation. Call 740.345.9757 to RSVP. </font></font></span></span></p>\n\n<p><span style="color:#000033\;"><span style="font-size: 12px\;"><font face="Arial"><font face="Arial">Also\, we are looking for donations for our live auction packages. If you have gift packages\, gift certificates\, products or services\, that you would be willing to donate\, please let us know. Your company name will be announced and featured at this event\, in recognition of your donation.</font></font></span></span></p>\n
LOCATION:Apple Tree Auction Center 1625 W. Church Street Newark\, Ohio
UID:e.1738.507
SEQUENCE:3
DTSTAMP:20260419T123702Z
URL:https://members.lickingcountychamber.com/events/details/3rd-annual-rockin-auction-01-14-2016-507
END:VEVENT

END:VCALENDAR
