BEGIN:VCALENDAR
VERSION:2.0
PRODID:-//ChamberMaster//Event Calendar 2.0//EN
METHOD:PUBLISH
X-PUBLISHED-TTL:P3D
REFRESH-INTERVAL:P3D
CALSCALE:GREGORIAN
BEGIN:VEVENT
DTSTART:20230929T113000Z
DTEND:20230929T180000Z
X-MICROSOFT-CDO-ALLDAYEVENT:FALSE
SUMMARY:42nd Annual Golf Outing
DESCRIPTION:This year's annual Chamber membership outing and meal will be held at Cumberland Trail Golf Course. \n\n\n\nYou are invited to join us!  Details include:\n\n	Registration & complimentary bloody mary bar at 7:30am\n	4 person scramble - shotgun start at 8:30am\n	Delicious lunch and awards \n	Double Your Green Contest\n	Mens' Longest Drive Contest (hole 2)\n	Ladies' Longest Drive Contest (hole 5)\n	Closest to the Pin Contest (hole 11)\n	Dice Role (hole 16)
X-ALT-DESC;FMTTYPE=text/html:This year&#39\;s annual Chamber membership outing and meal will be held at Cumberland Trail Golf Course.&nbsp\;<br />\n<br />\nYou are invited to join us!&nbsp\; Details include:\n<ul>\n	<li>Registration &amp\; complimentary bloody mary bar at 7:30am</li>\n	<li>4 person scramble - shotgun start at 8:30am</li>\n	<li>Delicious lunch and awards<span style="white-space:pre"> </span></li>\n	<li>Double Your Green Contest</li>\n	<li>Mens&#39\;&nbsp\;Longest Drive Contest (hole 2)</li>\n	<li>Ladies&#39\;&nbsp\;Longest Drive Contest (hole 5)</li>\n	<li>Closest to the Pin Contest (hole 11)</li>\n	<li>Dice Role (hole 16)</li>\n</ul>\n
LOCATION:Cumberland Trail Golf Course 8244 Columbia Rd SW Pataskala\, OH 43062
UID:e.1738.1962
SEQUENCE:3
DTSTAMP:20260420T023410Z
URL:https://members.lickingcountychamber.com/events/details/42nd-annual-golf-outing-1962
END:VEVENT

END:VCALENDAR
