BEGIN:VCALENDAR
VERSION:2.0
PRODID:-//ChamberMaster//Event Calendar 2.0//EN
METHOD:PUBLISH
X-PUBLISHED-TTL:P3D
REFRESH-INTERVAL:P3D
CALSCALE:GREGORIAN
BEGIN:VEVENT
DTSTART:20160129T103000Z
DTEND:20160129T134500Z
X-MICROSOFT-CDO-ALLDAYEVENT:FALSE
SUMMARY:60th Annual Groundhog Breakfast
DESCRIPTION:Join us for this annual networking breakfast with over 600 in attendance. Always a memorable event\, the morning includes a delicious breakfast\, entertainment\, an economic forecast\, and the John Alford Community Service Award\, which will be given to a deserving member of our community. Keynote Speaker and former Clemson Football Coach\, Tommy Bowden will entertain the audience with his inspiring message. Sponsored by MPW. Get your reservation in early for the best seating! Breakfast lines open at 6:00 a.m.
X-ALT-DESC;FMTTYPE=text/html:<p align="LEFT" dir="LTR"><span style="font-size: 12px\;"><span lang="EN">Join us for this annual networking breakfast with over 600 in attendance. Always a memorable event\, the morning includes a delicious breakfast\, entertainment\, an economic forecast\, and the John Alford Community Service Award\, which will be given to a deserving member of our community. Keynote Speaker and former Clemson Football Coach\, Tommy Bowden&nbsp\;will entertain the audience with his&nbsp\;inspiring message. Sponsored </span>by MPW. Get your reservation in early for the best seating! Breakfast lines open at 6:00 a.m.</span></p>\n
LOCATION:Adena Hall at COTC/Ohio State Newark 1179 University Drive Newark\, Ohio
UID:e.1738.511
SEQUENCE:3
DTSTAMP:20260419T123542Z
URL:https://members.lickingcountychamber.com/events/details/60th-annual-groundhog-breakfast-01-29-2016-511
END:VEVENT

END:VCALENDAR
