BEGIN:VCALENDAR
VERSION:2.0
PRODID:-//ChamberMaster//Event Calendar 2.0//EN
METHOD:PUBLISH
X-PUBLISHED-TTL:P3D
REFRESH-INTERVAL:P3D
CALSCALE:GREGORIAN
BEGIN:VEVENT
DTSTART:20151008T210000Z
DTEND:20151008T230000Z
X-MICROSOFT-CDO-ALLDAYEVENT:FALSE
SUMMARY:After Hours at Dawes Arboretum
DESCRIPTION:You are invited to attend this after hours networking event.  The Dawes team will be on hand to take visitors on tours and welcome you to their beautiful arboretum all decked out in fall color!  You will enjoy the indoor/outdoor venue along with a large array of appetizers\, refreshments and a cash bar.   Be sure to invite your family or entire staff to this event.
X-ALT-DESC;FMTTYPE=text/html:You are invited to attend this after hours networking event.&nbsp\; The Dawes team will be on hand to take visitors on tours and welcome you to their beautiful arboretum all decked out in fall color! &nbsp\;You will enjoy the indoor/outdoor venue along with a large array of appetizers\, refreshments and a cash bar. &nbsp\; Be sure to invite your family or&nbsp\;entire staff to this event.
LOCATION:7770 Jacksontown Road Newark\, Ohio
UID:e.1738.502
SEQUENCE:3
DTSTAMP:20260421T083813Z
URL:https://members.lickingcountychamber.com/events/details/after-hours-at-dawes-arboretum-10-08-2015-502
END:VEVENT

END:VCALENDAR
