BEGIN:VCALENDAR
VERSION:2.0
PRODID:-//ChamberMaster//Event Calendar 2.0//EN
METHOD:PUBLISH
X-PUBLISHED-TTL:P3D
REFRESH-INTERVAL:P3D
CALSCALE:GREGORIAN
BEGIN:VEVENT
DTSTART:20151028T210000Z
DTEND:20151028T230000Z
X-MICROSOFT-CDO-ALLDAYEVENT:FALSE
SUMMARY:After Hours at Southgate Corporation Spec Building
DESCRIPTION:Come out to Southgate Corporation's brand new spec building.  You won't need a hard hat\, but you will enjoy touring this new building on Kaiser Drive.  Guests will enjoy appetizers\, cash bar and soft drinks as you mingle with fellow members and business leaders.  This is a special after hours on a Wednesday!
X-ALT-DESC;FMTTYPE=text/html:Come out to Southgate Corporation&#39\;s brand new spec building. &nbsp\;You won&#39\;t need a hard hat\, but you will enjoy touring this new building on Kaiser Drive. &nbsp\;Guests will enjoy appetizers\, cash bar and soft drinks as you mingle with fellow members and business leaders. &nbsp\;This is a special after hours on a Wednesday!
LOCATION:670 Kaiser Drive Heath\, OH
UID:e.1738.505
SEQUENCE:3
DTSTAMP:20260421T084059Z
URL:https://members.lickingcountychamber.com/events/details/after-hours-at-southgate-corporation-spec-building-10-28-2015-505
END:VEVENT

END:VCALENDAR
