BEGIN:VCALENDAR
VERSION:2.0
PRODID:-//ChamberMaster//Event Calendar 2.0//EN
METHOD:PUBLISH
X-PUBLISHED-TTL:P3D
REFRESH-INTERVAL:P3D
CALSCALE:GREGORIAN
BEGIN:VEVENT
DTSTART:20151015T210000Z
DTEND:20151016T000000Z
X-MICROSOFT-CDO-ALLDAYEVENT:FALSE
SUMMARY:Candidates Night
DESCRIPTION:Join us for this informative Candidates Night featuring Newark Mayoral and At-Large City Council candidates.  This night will feature an hour social time/networking with appetizers and drinks\, followed by candidate introductions and Mayoral debate.
X-ALT-DESC;FMTTYPE=text/html:Join us for this informative&nbsp\;<strong><span style="font-weight:normal\;"><span style="font-family:arial\,sans-serif\;"><span style="font-size:10.0pt\;">Candidates Night featuring Newark Mayoral and At-Large City Council candidates.&nbsp\; This night will feature an hour social time/networking with appetizers and drinks\, followed by candidate introductions and Mayoral debate. &nbsp\;</span></span></span></strong>
LOCATION:DoubleTree by Hilton
UID:e.1738.501
SEQUENCE:3
DTSTAMP:20260421T083457Z
URL:https://members.lickingcountychamber.com/events/details/candidates-night-10-15-2015-501
END:VEVENT

END:VCALENDAR
