BEGIN:VCALENDAR
VERSION:2.0
PRODID:-//ChamberMaster//Event Calendar 2.0//EN
METHOD:PUBLISH
X-PUBLISHED-TTL:P3D
REFRESH-INTERVAL:P3D
CALSCALE:GREGORIAN
BEGIN:VEVENT
DTSTART:20160218T161500Z
DTEND:20160218T180000Z
X-MICROSOFT-CDO-ALLDAYEVENT:FALSE
SUMMARY:Effective Coaching! the Secret Sauce of effective leaders
DESCRIPTION:Coaching has become ubiquitous!  Everywhere you turn there is discussion about coaches   whether sports coaching\, life coaching\, executive coaching everyone seems to be talking about a COACH.\n\n \n\nAs HR professionals\, you will find that effective coaching is the secret sauce to effective leadership and there are some formulaic elements to effective coaching.  In this session we will discuss:\n\n \n\nMindset\n\nSkillset\n\nOutcomes   measurable results\n\n \n\nYou will leave this session with more questions than answers and that is the sign of an effective coach.  Coaches are different than consultants.  Consultants are problem solver that come in\, analyze a problem and provide solutions.  Coaches realize that the power is in the questions   because each individual has their own answers to the tough challenges they face sometimes they just need a coach to prompt them to think differently Mindset to act differently Skillset to measure outcomes differently BE different.\n\n \n\nKEY RESULTS:\n\n \n\n        Understand the components of Mindset in coaching\n\n        Design Powerful coaching questions\n\n        Realize the Skillset components for improved behavior\n\n        Define measurable results for coaching Outcomes
X-ALT-DESC;FMTTYPE=text/html:<p class="MsoNormal" style="margin: 0in 0in 0pt\;"><font face="Cambria"><font size="3"><font color="#000000">Coaching has become ubiquitous!<span style="mso-spacerun: yes\;">&nbsp\; </span></font></font><font size="3"><font color="#000000">Everywhere you turn there is discussion about coaches &ndash\; whether sports coaching\, life coaching\, executive coaching&hellip\;everyone seems to be talking about a COACH.<o:p></o:p></font></font></font></p>\n\n<p class="MsoNormal" style="margin: 0in 0in 0pt\;"><o:p><font color="#000000" face="Cambria" size="3">&nbsp\;</font></o:p></p>\n\n<p class="MsoNormal" style="margin: 0in 0in 0pt\;"><font face="Cambria"><font size="3"><font color="#000000">As HR professionals\, you will find that effective coaching is the secret sauce to effective leadership&hellip\;and there are some formulaic elements to effective coaching.<span style="mso-spacerun: yes\;">&nbsp\; </span></font></font><font size="3"><font color="#000000">In this session we will discuss:<o:p></o:p></font></font></font></p>\n\n<p class="MsoNormal" style="margin: 0in 0in 0pt\;"><o:p><font color="#000000" face="Cambria" size="3">&nbsp\;</font></o:p></p>\n\n<p class="MsoNormal" style="margin: 0in 0in 0pt\;"><b style="mso-bidi-font-weight: normal\;"><font size="3"><font color="#000000"><font face="Cambria">Mindset<o:p></o:p></font></font></font></b></p>\n\n<p class="MsoNormal" style="margin: 0in 0in 0pt\;"><b style="mso-bidi-font-weight: normal\;"><font size="3"><font color="#000000"><font face="Cambria">Skillset<o:p></o:p></font></font></font></b></p>\n\n<p class="MsoNormal" style="margin: 0in 0in 0pt\;"><b style="mso-bidi-font-weight: normal\;"><font size="3"><font color="#000000"><font face="Cambria">Outcomes &ndash\; measurable results<o:p></o:p></font></font></font></b></p>\n\n<p class="MsoNormal" style="margin: 0in 0in 0pt\;"><o:p><font color="#000000" face="Cambria" size="3">&nbsp\;</font></o:p></p>\n\n<p class="MsoNormal" style="margin: 0in 0in 0pt\;"><font face="Cambria"><font size="3"><font color="#000000">You will leave this session with more questions than answers&hellip\;and that is the sign of an effective coach.<span style="mso-spacerun: yes\;">&nbsp\; </span></font></font><font color="#000000" size="3">Coaches are different than consultants.</font><span style="mso-spacerun: yes\;"><font color="#000000" size="3">&nbsp\; </font></span><font color="#000000" size="3">Consultants are problem solver that come in\, analyze a problem and provide solutions.</font><span style="mso-spacerun: yes\;"><font color="#000000" size="3">&nbsp\; </font></span><font color="#000000" size="3">Coaches realize that the power is in the questions &ndash\; because each individual has their own answers to the tough challenges they face&hellip\;sometimes they just need a coach to prompt them to think differently&hellip\;</font><b style="mso-bidi-font-weight: normal\;"><font color="#000000" size="3">Mindset</font></b><font color="#000000" size="3">&hellip\;to act differently&hellip\;</font><b style="mso-bidi-font-weight: normal\;"><font color="#000000" size="3">Skillset</font></b><font color="#000000" size="3">&hellip\;to measure </font><b style="mso-bidi-font-weight: normal\;"><font color="#000000" size="3">outcomes</font></b><font color="#000000" size="3"> differently&hellip\;</font><b style="mso-bidi-font-weight: normal\;"><font color="#000000" size="3">BE</font></b><font size="3"><font color="#000000"> different.<o:p></o:p></font></font></font></p>\n\n<p class="MsoNormal" style="margin: 0in 0in 0pt\;"><o:p><font color="#000000" face="Cambria" size="3">&nbsp\;</font></o:p></p>\n\n<p class="MsoNormal" style="margin: 0in 0in 0pt\;"><b style="mso-bidi-font-weight: normal\;"><font size="3"><font color="#000000"><font face="Cambria">KEY RESULTS:<o:p></o:p></font></font></font></b></p>\n\n<p class="MsoNormal" style="margin: 0in 0in 0pt\;"><o:p><font color="#000000" face="Cambria" size="3">&nbsp\;</font></o:p></p>\n\n<p class="MsoListParagraphCxSpFirst" style="margin: 0in 0in 0pt 0.5in\; text-indent: -0.25in\; mso-list: l0 level1 lfo1\;"><span style="font-family: Symbol\; mso-fareast-font-family: Symbol\; mso-bidi-font-family: Symbol\;"><span style="mso-list: Ignore\;"><font color="#000000"><font size="3">&middot\;</font><span style="font: 7pt/normal &quot\;Times New Roman&quot\;\; font-size-adjust: none\; font-stretch: normal\;">&nbsp\;&nbsp\;&nbsp\;&nbsp\;&nbsp\;&nbsp\; </span></font></span></span><font face="Cambria"><font color="#000000" size="3">Understand the components of </font><b style="mso-bidi-font-weight: normal\;"><font color="#000000" size="3">Mindset</font></b><font size="3"><font color="#000000"> in coaching<o:p></o:p></font></font></font></p>\n\n<p class="MsoListParagraphCxSpMiddle" style="margin: 0in 0in 0pt 0.5in\; text-indent: -0.25in\; mso-list: l0 level1 lfo1\;"><span style="font-family: Symbol\; mso-fareast-font-family: Symbol\; mso-bidi-font-family: Symbol\;"><span style="mso-list: Ignore\;"><font color="#000000"><font size="3">&middot\;</font><span style="font: 7pt/normal &quot\;Times New Roman&quot\;\; font-size-adjust: none\; font-stretch: normal\;">&nbsp\;&nbsp\;&nbsp\;&nbsp\;&nbsp\;&nbsp\; </span></font></span></span><font size="3"><font color="#000000"><font face="Cambria">Design Powerful coaching questions<o:p></o:p></font></font></font></p>\n\n<p class="MsoListParagraphCxSpMiddle" style="margin: 0in 0in 0pt 0.5in\; text-indent: -0.25in\; mso-list: l0 level1 lfo1\;"><span style="font-family: Symbol\; mso-fareast-font-family: Symbol\; mso-bidi-font-family: Symbol\;"><span style="mso-list: Ignore\;"><font color="#000000"><font size="3">&middot\;</font><span style="font: 7pt/normal &quot\;Times New Roman&quot\;\; font-size-adjust: none\; font-stretch: normal\;">&nbsp\;&nbsp\;&nbsp\;&nbsp\;&nbsp\;&nbsp\; </span></font></span></span><font face="Cambria"><font color="#000000" size="3">Realize the </font><b style="mso-bidi-font-weight: normal\;"><font color="#000000" size="3">Skillset</font></b><font size="3"><font color="#000000"> components for improved behavior<o:p></o:p></font></font></font></p>\n\n<p class="MsoListParagraphCxSpLast" style="margin: 0in 0in 0pt 0.5in\; text-indent: -0.25in\; mso-list: l0 level1 lfo1\;"><span style="font-family: Symbol\; mso-fareast-font-family: Symbol\; mso-bidi-font-family: Symbol\;"><span style="mso-list: Ignore\;"><font color="#000000"><font size="3">&middot\;</font><span style="font: 7pt/normal &quot\;Times New Roman&quot\;\; font-size-adjust: none\; font-stretch: normal\;">&nbsp\;&nbsp\;&nbsp\;&nbsp\;&nbsp\;&nbsp\; </span></font></span></span><font face="Cambria"><font color="#000000" size="3">Define measurable results for coaching </font><b style="mso-bidi-font-weight: normal\;"><font size="3"><font color="#000000">Outcomes<o:p></o:p></font></font></b></font></p>\n
LOCATION:Moundbuilder's Country Club 125 N. 33rd Street Newark\, OH 43055
UID:e.1738.522
SEQUENCE:3
DTSTAMP:20260419T124217Z
URL:https://members.lickingcountychamber.com/events/details/effective-coaching-the-secret-sauce-of-effective-leaders-02-18-2016-522
END:VEVENT

END:VCALENDAR
