BEGIN:VCALENDAR
VERSION:2.0
PRODID:-//ChamberMaster//Event Calendar 2.0//EN
METHOD:PUBLISH
X-PUBLISHED-TTL:P3D
REFRESH-INTERVAL:P3D
CALSCALE:GREGORIAN
BEGIN:VEVENT
DTSTART:20151022T153000Z
DTEND:20151022T170000Z
X-MICROSOFT-CDO-ALLDAYEVENT:FALSE
SUMMARY:Lunch & Learn: Data Breach/Cyber Liability Insurance Program
DESCRIPTION:It can it be a difference between staying in business and closing your doors!  \n\nAttend this informative program and learn what you need to know:  \n\n\n\n	What would you do if you had a data breach?\n	How to establish a breach response team\n	What is considered data and who is at risk? \n	Cyber risk pressure test - How safe are your systems?\n	Claims examples\n	If I am not a retailer - why do I need to worry about cyber liability? \n\n\nOur Presenters from Travelers Insurance:\n\nKatie Schnelle\n\nVanise Doles\n\nBen Pachla
X-ALT-DESC;FMTTYPE=text/html:<div style="color: rgb(75\, 75\, 75)\; font-family: Arial\, Helvetica\, sans-serif\; font-size: 12px\; line-height: normal\;"><a><span style="color:#000000\;">It can it be a difference between staying in business and closing your doors! &nbsp\;</span></a><br />\n<a _mce_style="font-size: 9pt\;" style="font-size: 9pt\;"><span style="color:#000000\;">Attend this informative program and learn what you need to know:&nbsp\;&nbsp\;</span></a></div>\n\n<div style="color: rgb(75\, 75\, 75)\; font-family: Arial\, Helvetica\, sans-serif\; font-size: 12px\; line-height: normal\;">\n<ul>\n	<li><a><span style="color:#000000\;">What would you do if you had a data breach?</span></a></li>\n	<li><a><span style="color:#000000\;">How to establish a breach response team</span></a></li>\n	<li><a><span style="color:#000000\;">What is considered data and who is at risk?&nbsp\;</span></a></li>\n	<li><a><span style="color:#000000\;">Cyber risk pressure test - How safe are your systems?</span></a></li>\n	<li><a><span style="color:#000000\;">Claims examples</span></a></li>\n	<li><a><span style="color:#000000\;">If I am not a retailer - why do I need to worry about cyber liability?&nbsp\;</span></a></li>\n</ul>\n\n<div><span style="color:#000000\;">Our Presenters from Travelers Insurance:<br />\nKatie Schnelle<br />\nVanise Doles<br />\nBen Pachla &nbsp\;</span></div>\n\n<div>&nbsp\;</div>\n</div>\n
LOCATION:DoubleTree by Hilton 50 N. 2nd Street\, Newark
UID:e.1738.504
SEQUENCE:3
DTSTAMP:20260421T084808Z
URL:https://members.lickingcountychamber.com/events/details/lunch-learn-data-breach-cyber-liability-insurance-program-10-22-2015-504
END:VEVENT

END:VCALENDAR
