BEGIN:VCALENDAR
VERSION:2.0
PRODID:-//ChamberMaster//Event Calendar 2.0//EN
METHOD:PUBLISH
X-PUBLISHED-TTL:P3D
REFRESH-INTERVAL:P3D
CALSCALE:GREGORIAN
BEGIN:VEVENT
DTSTART:20240307T163000Z
DTEND:20240307T180000Z
X-MICROSOFT-CDO-ALLDAYEVENT:FALSE
SUMMARY:YLLC Lunch Mob - Franks & Sammies
DESCRIPTION:Join us for a Lunch Mob at Franks & Sammies located in Downtown Newark at 34 S 3rd St! Order from their delicious menu and mingle with fellow YLLC members on your lunch break.\n\n\n\nPlease arrive any time between 11:30am-1:00pm. \n\n\n\nVisit the Franks & Sammies website: www.franksandsammies.com\n\n\n\nRegistration required - free to attend.\n\n\n\nPlease contact Young Leaders Event Chair\, Caileigh Barker caileigh.h.barker@huntington.com\, if you have any questions about this or any YLLC event.\n\n\n\nDo you want to join Young Leaders of Licking County? Contact Amelia Hitchens!\n\nPhone: (740) 345-9757 x. 4\, Email: ahitchens@lickingcountychamber.com
X-ALT-DESC;FMTTYPE=text/html:<p>Join us for a Lunch Mob at Franks &amp\; Sammies located in Downtown Newark at&nbsp\;34&nbsp\;S 3rd St!&nbsp\;Order from their delicious menu and mingle with fellow YLLC members on your lunch break.<br />\n<br />\nPlease arrive any time between 11:30am-1:00pm.&nbsp\;<br />\n<br />\nVisit the Franks &amp\; Sammies website: <a href="https://franksandsammies.com/">www.franksandsammies.com</a><br />\n<br />\nRegistration required - free to attend.<br />\n<br />\nPlease contact Young Leaders Event Chair\, Caileigh Barker caileigh.h.barker@huntington.com\, if you have any questions about this or any YLLC event.<br />\n<br />\nDo you want to join Young Leaders of Licking County? Contact Amelia Hitchens!<br />\nPhone: (740) 345-9757 x. 4\, Email: ahitchens@lickingcountychamber.com&nbsp\;</p>\n
LOCATION:Franks & Sammmies 34 S 3rd St\, Newark\, Ohio
UID:e.1738.2048
SEQUENCE:3
DTSTAMP:20260421T083357Z
URL:https://members.lickingcountychamber.com/events/details/yllc-lunch-mob-franks-sammies-2048
END:VEVENT

END:VCALENDAR
