BEGIN:VCALENDAR
VERSION:2.0
PRODID:-//ChamberMaster//Event Calendar 2.0//EN
METHOD:PUBLISH
X-PUBLISHED-TTL:P3D
REFRESH-INTERVAL:P3D
CALSCALE:GREGORIAN
BEGIN:VEVENT
DTSTART:20260514T113000Z
DTEND:20260514T130000Z
X-MICROSOFT-CDO-ALLDAYEVENT:FALSE
SUMMARY:YLLC Pancakes w/ the President - Heather Powell
DESCRIPTION:Pancakes with the President  \n\n\n\nStart your morning with a delicious breakfast and engaging discussion featuring Heather Powell - Vice President and Financial Advisor with The Edwards Group at Morgan Stanley. This is a great opportunity to connect\, learn\, and enjoy a casual conversation with a local leader.\n\n\n	Register today!\n	Must be a current YLLC member to register.\n\n\nHave questions about this event or others? Contact Shelby Seas at skseas@dawesarb.org.\n\n\n\nInterested in joining YLLC? Reach out to Amelia Hitchens at (740) 345-9757 x. 4 or ahitchens@lickingcountychamber.com.\n\n\n\nWe hope to see you there!
X-ALT-DESC;FMTTYPE=text/html:<p><span style="font-family:arial\;"><strong><span style="font-size:22px\;">Pancakes with the President &#129374\;</span></strong><br />\n<br />\nStart your morning with a delicious breakfast and engaging discussion featuring <b>Heather Powell -&nbsp\;</b></span><strong>Vice President and Financial Advisor with The Edwards Group at Morgan Stanley</strong><span style="font-family:arial\;">. This is a great opportunity to connect\, learn\, and enjoy a casual conversation with a local leader.</span></p>\n\n<ul>\n	<li><span style="font-family:arial\;">Register today!</span></li>\n	<li><span style="font-family:arial\;">Must be a current YLLC member to register.</span></li>\n</ul>\n\n<p><span style="font-family:arial\;">Have questions about this event or others? Contact Shelby Seas at <a href="mailto:skseas@dawesarb.org">skseas@dawesarb.org</a>.<br />\n<br />\nInterested in joining YLLC? Reach out to Amelia Hitchens at <a href="tel:(740) 345-9757">(740) 345-9757</a> x. 4 or <a href="mailto:ahitchens@lickingcountychamber.com">ahitchens@lickingcountychamber.com</a>.<br />\n<br />\nWe hope to see you there!&nbsp\;</span></p>\n
LOCATION:The Loft - Stockyard Grill 5 N 3rd St. Second Level
UID:e.1738.2202
SEQUENCE:3
DTSTAMP:20260424T183127Z
URL:https://members.lickingcountychamber.com/events/details/yllc-pancakes-w-the-president-heather-powell-2202
END:VEVENT

END:VCALENDAR
